Workbook
Name QBCANSUPPORTUPDATE: TRUE
Name QBCOMPANYFILENAME: "A:\irwa2006.qbw"
Name QBENDDATE: 20250630
Name QBHEADERSONSCREEN: FALSE
Name QBMETADATASIZE: 5924
Name QBPRESERVECOLOR: TRUE
Name QBPRESERVEFONT: TRUE
Name QBPRESERVEROWHEIGHT: TRUE
Name QBPRESERVESPACE: TRUE
Name QBREPORTCOLAXIS: 8
Name QBREPORTCOMPANYID: "6b6f2b79abc94558b7d8b6c36d873f68"
Name QBREPORTCOMPARECOL_ANNUALBUDGET: FALSE
Name QBREPORTCOMPARECOL_AVGCOGS: FALSE
Name QBREPORTCOMPARECOL_AVGPRICE: FALSE
Name QBREPORTCOMPARECOL_BUDDIFF: TRUE
Name QBREPORTCOMPARECOL_BUDGET: TRUE
Name QBREPORTCOMPARECOL_BUDPCT: TRUE
Name QBREPORTCOMPARECOL_COGS: FALSE
Name QBREPORTCOMPARECOL_EXCLUDEAMOUNT: FALSE
Name QBREPORTCOMPARECOL_EXCLUDECURPERIOD: FALSE
Name QBREPORTCOMPARECOL_FORECAST: FALSE
Name QBREPORTCOMPARECOL_GROSSMARGIN: FALSE
Name QBREPORTCOMPARECOL_GROSSMARGINPCT: FALSE
Name QBREPORTCOMPARECOL_HOURS: FALSE
Name QBREPORTCOMPARECOL_PCTCOL: FALSE
Name QBREPORTCOMPARECOL_PCTEXPENSE: FALSE
Name QBREPORTCOMPARECOL_PCTINCOME: FALSE
Name QBREPORTCOMPARECOL_PCTOFSALES: FALSE
Name QBREPORTCOMPARECOL_PCTROW: FALSE
Name QBREPORTCOMPARECOL_PPDIFF: FALSE
Name QBREPORTCOMPARECOL_PPPCT: FALSE
Name QBREPORTCOMPARECOL_PREVPERIOD: FALSE
Name QBREPORTCOMPARECOL_PREVYEAR: FALSE
Name QBREPORTCOMPARECOL_PYDIFF: FALSE
Name QBREPORTCOMPARECOL_PYPCT: FALSE
Name QBREPORTCOMPARECOL_QTY: FALSE
Name QBREPORTCOMPARECOL_RATE: FALSE
Name QBREPORTCOMPARECOL_TRIPBILLEDMILES: FALSE
Name QBREPORTCOMPARECOL_TRIPBILLINGAMOUNT: FALSE
Name QBREPORTCOMPARECOL_TRIPMILES: FALSE
Name QBREPORTCOMPARECOL_TRIPNOTBILLABLEMILES: FALSE
Name QBREPORTCOMPARECOL_TRIPTAXDEDUCTIBLEAMOUNT: FALSE
Name QBREPORTCOMPARECOL_TRIPUNBILLEDMILES: FALSE
Name QBREPORTCOMPARECOL_YTD: FALSE
Name QBREPORTCOMPARECOL_YTDBUDGET: FALSE
Name QBREPORTCOMPARECOL_YTDPCT: FALSE
Name QBREPORTROWAXIS: 11
Name QBREPORTSUBCOLAXIS: 24
Name QBREPORTTYPE: 288
Name QBROWHEADERS: 7
Name QBSTARTDATE: 20220701

Sheet 1st Draft
H1: =H580 -> 44542.64 | I1: =I580 -> 8714.58 | J1: =J580 -> 51342.9 | K1: =K580 -> 826.41 | L1: =L580 -> 184453.41 | M1: =M580 -> 354.02 | N1: =N580 -> 280338.95 | O1: =O580 -> 9895.01 | ... Q1: =Q580 -> 3298.3367 | Z1: =Z580 -> 811.37 | AB1: =AB580 -> -211160.47
AB2: 1st Draft
N3: TOTAL | P3: 3 Year Average | Z3: 2025 - 26 | AB3: 2026 - 27
H4: Jul '22 - Jun 23 | I4: Budget | J4: Jul '23 - Jun 24 | K4: Budget | L4: Jul '24 - Jun 25 | M4: Budget | N4: Jul '22 - Jun 25 | O4: Budget | P4: Jul '22 - Jun 25 | Q4: Budget | Z4: Budget | AB4: Budget
B5: Ordinary Income/Expense | T5: Ordinary Income/Expense
C6: Income | U6: Income
D7: 40 · EDUCATION INCOME | V7: 40 · EDUCATION INCOME
E8: 410 · COURSE INCOME - CLASSROOM | W8: 410 · COURSE INCOME - CLASSROOM
F9: 100 · COURSE 100'S | X9: 100 · COURSE 100'S | AB9: 960784.8
G10: 4100i · 100i-Principles of Land Acq | H10: 122124.97 | I10: 16926 | J10: 75082.22 | K10: 46872 | L10: 73581.05 | M10: 110683 | N10: =ROUND(H10+J10+L10,5) -> 270788.24 | O10: =ROUND(I10+K10+M10,5) -> 174481 | P10: =N10/3 -> 90262.747 | Q10: =O10/3 -> 58160.333 | Y10: 4100i · 100i-Principles of Land Acq | Z10: 119709.85
G11: 4102 · 102-Elevating Your Ethical Awar | H11: 27462.54 | I11: 7176 | J11: 38915.93 | K11: 13248 | L11: 37783.37 | M11: 26791 | N11: =ROUND(H11+J11+L11,5) -> 104161.84 | O11: =ROUND(I11+K11+M11,5) -> 47215 | P11: =N11/3 -> 34720.613 | Q11: =O11/3 -> 15738.333 | Y11: 4102 · 102-Elevating Your Ethical Awar | Z11: 47017.15
G12: 4103 · 103-Ethics & ROW Profession | H12: 0 | I12: 8970 | J12: 0 | K12: 0 | L12: 0 | N12: =ROUND(H12+J12+L12,5) -> 0 | O12: =ROUND(I12+K12+M12,5) -> 8970 | P12: =N12/3 -> 0 | Q12: =O12/3 -> 2990 | Y12: 4103 · 103-Ethics & ROW Profession | Z12: 0
G13: 4105 · 105-URA Executive Summary | H13: 21585.85 | I13: 0 | J13: 9798 | K13: 1656 | L13: 17730 | M13: 20620 | N13: =ROUND(H13+J13+L13,5) -> 49113.85 | O13: =ROUND(I13+K13+M13,5) -> 22276 | P13: =N13/3 -> 16371.283 | Q13: =O13/3 -> 7425.3333 | Y13: 4105 · 105-URA Executive Summary | Z13: 17741.66
G14: 4145 · 145-Overview of URA 4 Hrs | H14: 0 | J14: 5600 | L14: 2190 | M14: 1400 | N14: =ROUND(H14+J14+L14,5) -> 7790 | O14: =ROUND(I14+K14+M14,5) -> 1400 | P14: =N14/3 -> 2596.6667 | Q14: =O14/3 -> 466.66667 | Y14: 4145 · 145-Overview of URA 4 Hrs | Z14: 5634.94
F15: Total 100 · COURSE 100'S | H15: =ROUND(SUM(H9:H14),5) -> 171173.36 | I15: =ROUND(SUM(I9:I14),5) -> 33072 | J15: =ROUND(SUM(J9:J14),5) -> 129396.15 | K15: =ROUND(SUM(K9:K14),5) -> 61776 | L15: =ROUND(SUM(L9:L14),5) -> 131284.42 | M15: =ROUND(SUM(M9:M14),5) -> 159494 | N15: =ROUND(H15+J15+L15,5) -> 431853.93 | O15: =ROUND(I15+K15+M15,5) -> 254342 | P15: =N15/3 -> 143951.31 | Q15: =O15/3 -> 84780.667 | X15: Total 100 · COURSE 100'S | Z15: =ROUND(SUM(Z9:Z14),5) -> 190103.6 | AB15: =ROUND(SUM(AB9:AB14),5) -> 960784.8
F16: 200 · COURSE 200'S | X16: 200 · COURSE 200'S
G17: 4200 · 200-Princip. of R/E Negotiation | H17: 34864.82 | I17: 14105 | J17: 38975 | K17: 33852 | L17: 27970 | M17: 32016 | N17: =ROUND(H17+J17+L17,5) -> 101809.82 | O17: =ROUND(I17+K17+M17,5) -> 79973 | P17: =N17/3 -> 33936.607 | Q17: =O17/3 -> 26657.667 | Y17: 4200 · 200-Princip. of R/E Negotiation | Z17: 60529.78
G18: 4200C · 200C-Princip. of R/E Negotiat'n | H18: 8923.08 | I18: 2821 | J18: 7378.1 | K18: 7812 | L18: 10683.11 | M18: 12992 | N18: =ROUND(H18+J18+L18,5) -> 26984.29 | O18: =ROUND(I18+K18+M18,5) -> 23625 | P18: =N18/3 -> 8994.7633 | Q18: =O18/3 -> 7875 | Y18: 4200C · 200C-Princip. of R/E Negotiat'n | Z18: 0
G19: 4201 · 201-Comm. in R/E Acquisition | H19: 4158 | I19: 0 | J19: 0 | K19: 28512 | L19: 13112 | M19: 7000 | N19: =ROUND(H19+J19+L19,5) -> 17270 | O19: =ROUND(I19+K19+M19,5) -> 35512 | P19: =N19/3 -> 5756.6667 | Q19: =O19/3 -> 11837.333 | Y19: 4201 · 201-Comm. in R/E Acquisition | Z19: 4448.05
G20: 4203 · 203-Alternative Dispute Resol. | H20: 10734.81 | I20: 0 | J20: 2604 | K20: 13020 | L20: 9376 | M20: 22272 | N20: =ROUND(H20+J20+L20,5) -> 22714.81 | O20: =ROUND(I20+K20+M20,5) -> 35292 | P20: =N20/3 -> 7571.6033 | Q20: =O20/3 -> 11764 | Y20: 4203 · 203-Alternative Dispute Resol. | Z20: 8937.28
G21: 4203C · 203C-Alternative Dispute Resol. | H21: 651 | I21: 0 | J21: 2604.05 | L21: 0 | N21: =ROUND(H21+J21+L21,5) -> 3255.05 | O21: =ROUND(I21+K21+M21,5) -> 0 | P21: =N21/3 -> 1085.0167 | Q21: =O21/3 -> 0 | Y21: 4203C · 203C-Alternative Dispute Resol. | Z21: 0
G22: 4205 · 205-Bargaining Negotiations | H22: 2979.65 | I22: 19747 | J22: 13454 | K22: 28644 | L22: 7903 | M22: 9744 | N22: =ROUND(H22+J22+L22,5) -> 24336.65 | O22: =ROUND(I22+K22+M22,5) -> 58135 | P22: =N22/3 -> 8112.2167 | Q22: =O22/3 -> 19378.333 | Y22: 4205 · 205-Bargaining Negotiations | Z22: 16858.96
G23: 4205C · 205C-Bargaining Negotiations | H23: 2387.04 | I23: 0 | J23: 0 | K23: 0 | L23: 1173.01 | M23: 0 | N23: =ROUND(H23+J23+L23,5) -> 3560.05 | O23: =ROUND(I23+K23+M23,5) -> 0 | P23: =N23/3 -> 1186.6833 | Q23: =O23/3 -> 0 | Y23: 4205C · 205C-Bargaining Negotiations | Z23: 0
G24: 4207 · 207-Practical Negotiations | H24: 8821.1 | I24: 8463 | J24: 3689 | K24: 20832 | L24: 7944 | M24: 12992 | N24: =ROUND(H24+J24+L24,5) -> 20454.1 | O24: =ROUND(I24+K24+M24,5) -> 42287 | P24: =N24/3 -> 6818.0333 | Q24: =O24/3 -> 14095.667 | Y24: 4207 · 207-Practical Negotiations | Z24: 8327.92
G25: 4209 · 209-Negotiating with Diverse Cl | H25: 2232.41 | I25: 5642 | J25: 0 | K25: 2604 | L25: 11126 | M25: 9512 | N25: =ROUND(H25+J25+L25,5) -> 13358.41 | O25: =ROUND(I25+K25+M25,5) -> 17758 | P25: =N25/3 -> 4452.8033 | Q25: =O25/3 -> 5919.3333 | Y25: 4209 · 209-Negotiating with Diverse Cl | Z25: 3249.92
G26: 4209C · 209C-Negotiating with Diverse | H26: 1085.02 | I26: 0 | J26: 3255.06 | K26: 0 | L26: 1302 | M26: 0 | N26: =ROUND(H26+J26+L26,5) -> 5642.08 | O26: =ROUND(I26+K26+M26,5) -> 0 | P26: =N26/3 -> 1880.6933 | Q26: =O26/3 -> 0 | Y26: 4209C · 209C-Negotiating with Diverse | Z26: 0
G27: 4213 · 213-Conflict Management | H27: 8761.17 | I27: 8970 | J27: 11868 | K27: 0 | L27: 8318 | M27: 14599 | N27: =ROUND(H27+J27+L27,5) -> 28947.17 | O27: =ROUND(I27+K27+M27,5) -> 23569 | P27: =N27/3 -> 9649.0567 | Q27: =O27/3 -> 7856.3333 | Y27: 4213 · 213-Conflict Management | Z27: 15886.42
G28: 4213C · 213C-Conflict Management | H28: 4830 | I28: 1794 | J28: 827.99 | K28: 0 | L28: 734 | M28: 4064 | N28: =ROUND(H28+J28+L28,5) -> 6391.99 | O28: =ROUND(I28+K28+M28,5) -> 5858 | P28: =N28/3 -> 2130.6633 | Q28: =O28/3 -> 1952.6667 | Y28: 4213C · 213C-Conflict Management | Z28: 645.87
G29: 4215 · 215-R/W Acquisit. Pipeline Proj | H29: 8392.76 | I29: 22568 | J29: 8680.03 | K29: 31248 | L29: 16885.09 | M29: 12992 | N29: =ROUND(H29+J29+L29,5) -> 33957.88 | O29: =ROUND(I29+K29+M29,5) -> 66808 | P29: =N29/3 -> 11319.293 | Q29: =O29/3 -> 22269.333 | Y29: 4215 · 215-R/W Acquisit. Pipeline Proj | Z29: 11171.61
G30: 4218 · 218-R/W Acq. for Elec.Util.Proj | H30: 21528.44 | I30: 5642 | J30: 6510 | K30: 18228 | L30: 15979.04 | M30: 25984 | N30: =ROUND(H30+J30+L30,5) -> 44017.48 | O30: =ROUND(I30+K30+M30,5) -> 49854 | P30: =N30/3 -> 14672.493 | Q30: =O30/3 -> 16618 | Y30: 4218 · 218-R/W Acq. for Elec.Util.Proj | Z30: 10562.25
G31: 4219 · 219-Introductory Instructor | H31: 4941.81 | I31: 5642 | J31: 24087 | K31: 5208 | L31: 35550 | M31: 16240 | N31: =ROUND(H31+J31+L31,5) -> 64578.81 | O31: =ROUND(I31+K31+M31,5) -> 27090 | P31: =N31/3 -> 21526.27 | Q31: =O31/3 -> 9030 | Y31: 4219 · 219-Introductory Instructor | Z31: 42248.99
G32: 4219C · 219C-Introductory Instructor | H32: 0 | I32: 0 | J32: 7378.07 | K32: 0 | L32: 7422.09 | M32: 0 | N32: =ROUND(H32+J32+L32,5) -> 14800.16 | O32: =ROUND(I32+K32+M32,5) -> 0 | P32: =N32/3 -> 4933.3867 | Q32: =O32/3 -> 0 | Y32: 4219C · 219C-Introductory Instructor | Z32: 0
G33: 4225 · 225-Social Ecology | H33: 638.11 | I33: 14105 | J33: 966 | K33: 5208 | L33: 0 | M33: 3248 | N33: =ROUND(H33+J33+L33,5) -> 1604.11 | O33: =ROUND(I33+K33+M33,5) -> 22561 | P33: =N33/3 -> 534.70333 | Q33: =O33/3 -> 7520.3333 | Y33: 4225 · 225-Social Ecology | Z33: 1033.39
... G35: 4235C · C235C - Cdn Oil & Gas Industry | H35: 0 | I35: 5382 | J35: 0 | K35: 6624 | L35: 0 | M35: 3248 | N35: =ROUND(H35+J35+L35,5) -> 0 | O35: =ROUND(I35+K35+M35,5) -> 15254 | P35: =N35/3 -> 0 | Q35: =O35/3 -> 5084.6667 | Y35: 4235C · C235C - Cdn Oil & Gas Industry | Z35: 1015.6
G36: 4239 · 239 Prin. of Wind Eng. Ld Aq | H36: 0 | I36: 0 | J36: 3449.96 | K36: 0 | L36: 2113.96 | M36: 0 | N36: =ROUND(H36+J36+L36,5) -> 5563.92 | O36: 0 | P36: =N36/3 -> 1854.64 | Q36: =O36/3 -> 0 | Y36: 4239 · 239 Prin. of Wind Eng. Ld Aq | Z36: 3858.35
G37: 4240i · 240i Geothermal Energy Basics | H37: 0 | I37: 0 | J37: 0 | K37: 0 | L37: 0 | M37: 0 | N37: =ROUND(H37+J37+L37,5) -> 0 | O37: =ROUND(I37+K37+M37,5) -> 0 | P37: =N37/3 -> 0 | Q37: =O37/3 -> 0 | Y37: 4240i · 240i Geothermal Energy Basics | Z37: 262.09
G38: 4241i · 240i - Solar Energy Basics | H38: 0 | I38: 0 | J38: 0 | K38: 0 | L38: 0 | M38: 0 | N38: =ROUND(H38+J38+L38,5) -> 0 | O38: =ROUND(I38+K38+M38,5) -> 0 | P38: =N38/3 -> 0 | Q38: =O38/3 -> 0 | Y38: 4241i · 240i - Solar Energy Basics | Z38: 262.09
F39: Total 200 · COURSE 200'S | H39: =ROUND(SUM(H16:H38),5) -> 125929.22 | I39: =ROUND(SUM(I16:I38),5) -> 120263 | J39: =ROUND(SUM(J16:J38),5) -> 136830.26 | K39: =ROUND(SUM(K16:K38),5) -> 203448 | L39: =ROUND(SUM(L16:L38),5) -> 177591.3 | M39: =ROUND(SUM(M16:M38),5) -> 186903 | N39: =ROUND(H39+J39+L39,5) -> 440350.78 | O39: =ROUND(I39+K39+M39,5) -> 510614 | P39: =N39/3 -> 146783.59 | Q39: =O39/3 -> 170204.67 | X39: Total 200 · COURSE 200'S | Z39: =ROUND(SUM(Z16:Z38),5) -> 190801.85 | AB39: =ROUND(SUM(AB16:AB38),5) -> 0
F40: 300 · COURSE 300'S | X40: 300 · COURSE 300'S
G41: 4303 · 303-Management Consulting | H41: 2498.6 | I41: 22568 | J41: 9765 | K41: 15624 | L41: 4818 | M41: 6496 | N41: =ROUND(H41+J41+L41,5) -> 17081.6 | O41: =ROUND(I41+K41+M41,5) -> 44688 | P41: =N41/3 -> 5693.8667 | Q41: =O41/3 -> 14896 | Y41: 4303 · 303-Management Consulting | Z41: 11780.97
...

Sheet 2nd Draft
H1: =H580 -> 44542.64 | I1: =I580 -> 8714.58 | J1: =J580 -> 51342.9 | K1: =K580 -> 826.41 | L1: =L580 -> 184453.41 | M1: =M580 -> 354.02 | N1: =N580 -> 280338.95 | O1: =O580 -> 9895.01 | ... Q1: =Q580 -> 3298.3367 | Z1: =Z580 -> 811.37 | AB1: =AB580 -> -193160.47 | AC1: =AC580 -> -8678.4714 | AD1: =AB1-AC1 -> -184482
AB2: 1st Draft | AC2: 2nd Draft
N3: TOTAL | P3: 3 Year Average | Z3: 2025 - 26 | AB3: 2026 - 27 | AC3: 2026 - 27
H4: Jul '22 - Jun 23 | I4: Budget | J4: Jul '23 - Jun 24 | K4: Budget | L4: Jul '24 - Jun 25 | M4: Budget | N4: Jul '22 - Jun 25 | O4: Budget | P4: Jul '22 - Jun 25 | Q4: Budget | Z4: Budget | AB4: Budget | AC4: Budget
B5: Ordinary Income/Expense | T5: Ordinary Income/Expense
C6: Income | U6: Income
D7: 40 · EDUCATION INCOME | V7: 40 · EDUCATION INCOME
E8: 410 · COURSE INCOME - CLASSROOM | W8: 410 · COURSE INCOME - CLASSROOM
F9: 100 · COURSE 100'S | X9: 100 · COURSE 100'S | AB9: 960784.8 | AC9: 960784.8
G10: 4100i · 100i-Principles of Land Acq | H10: 122124.97 | I10: 16926 | J10: 75082.22 | K10: 46872 | L10: 73581.05 | M10: 110683 | N10: =ROUND(H10+J10+L10,5) -> 270788.24 | O10: =ROUND(I10+K10+M10,5) -> 174481 | P10: =N10/3 -> 90262.747 | Q10: =O10/3 -> 58160.333 | Y10: 4100i · 100i-Principles of Land Acq | Z10: 119709.85
G11: 4102 · 102-Elevating Your Ethical Awar | H11: 27462.54 | I11: 7176 | J11: 38915.93 | K11: 13248 | L11: 37783.37 | M11: 26791 | N11: =ROUND(H11+J11+L11,5) -> 104161.84 | O11: =ROUND(I11+K11+M11,5) -> 47215 | P11: =N11/3 -> 34720.613 | Q11: =O11/3 -> 15738.333 | Y11: 4102 · 102-Elevating Your Ethical Awar | Z11: 47017.15
G12: 4103 · 103-Ethics & ROW Profession | H12: 0 | I12: 8970 | J12: 0 | K12: 0 | L12: 0 | N12: =ROUND(H12+J12+L12,5) -> 0 | O12: =ROUND(I12+K12+M12,5) -> 8970 | P12: =N12/3 -> 0 | Q12: =O12/3 -> 2990 | Y12: 4103 · 103-Ethics & ROW Profession | Z12: 0
G13: 4105 · 105-URA Executive Summary | H13: 21585.85 | I13: 0 | J13: 9798 | K13: 1656 | L13: 17730 | M13: 20620 | N13: =ROUND(H13+J13+L13,5) -> 49113.85 | O13: =ROUND(I13+K13+M13,5) -> 22276 | P13: =N13/3 -> 16371.283 | Q13: =O13/3 -> 7425.3333 | Y13: 4105 · 105-URA Executive Summary | Z13: 17741.66
G14: 4145 · 145-Overview of URA 4 Hrs | H14: 0 | J14: 5600 | L14: 2190 | M14: 1400 | N14: =ROUND(H14+J14+L14,5) -> 7790 | O14: =ROUND(I14+K14+M14,5) -> 1400 | P14: =N14/3 -> 2596.6667 | Q14: =O14/3 -> 466.66667 | Y14: 4145 · 145-Overview of URA 4 Hrs | Z14: 5634.94
F15: Total 100 · COURSE 100'S | H15: =ROUND(SUM(H9:H14),5) -> 171173.36 | I15: =ROUND(SUM(I9:I14),5) -> 33072 | J15: =ROUND(SUM(J9:J14),5) -> 129396.15 | K15: =ROUND(SUM(K9:K14),5) -> 61776 | L15: =ROUND(SUM(L9:L14),5) -> 131284.42 | M15: =ROUND(SUM(M9:M14),5) -> 159494 | N15: =ROUND(H15+J15+L15,5) -> 431853.93 | O15: =ROUND(I15+K15+M15,5) -> 254342 | P15: =N15/3 -> 143951.31 | Q15: =O15/3 -> 84780.667 | X15: Total 100 · COURSE 100'S | Z15: =ROUND(SUM(Z9:Z14),5) -> 190103.6 | AB15: =ROUND(SUM(AB9:AB14),5) -> 960784.8 | AC15: =ROUND(SUM(AC9:AC14),5) -> 960784.8
F16: 200 · COURSE 200'S | X16: 200 · COURSE 200'S
G17: 4200 · 200-Princip. of R/E Negotiation | H17: 34864.82 | I17: 14105 | J17: 38975 | K17: 33852 | L17: 27970 | M17: 32016 | N17: =ROUND(H17+J17+L17,5) -> 101809.82 | O17: =ROUND(I17+K17+M17,5) -> 79973 | P17: =N17/3 -> 33936.607 | Q17: =O17/3 -> 26657.667 | Y17: 4200 · 200-Princip. of R/E Negotiation | Z17: 60529.78
G18: 4200C · 200C-Princip. of R/E Negotiat'n | H18: 8923.08 | I18: 2821 | J18: 7378.1 | K18: 7812 | L18: 10683.11 | M18: 12992 | N18: =ROUND(H18+J18+L18,5) -> 26984.29 | O18: =ROUND(I18+K18+M18,5) -> 23625 | P18: =N18/3 -> 8994.7633 | Q18: =O18/3 -> 7875 | Y18: 4200C · 200C-Princip. of R/E Negotiat'n | Z18: 0
G19: 4201 · 201-Comm. in R/E Acquisition | H19: 4158 | I19: 0 | J19: 0 | K19: 28512 | L19: 13112 | M19: 7000 | N19: =ROUND(H19+J19+L19,5) -> 17270 | O19: =ROUND(I19+K19+M19,5) -> 35512 | P19: =N19/3 -> 5756.6667 | Q19: =O19/3 -> 11837.333 | Y19: 4201 · 201-Comm. in R/E Acquisition | Z19: 4448.05
G20: 4203 · 203-Alternative Dispute Resol. | H20: 10734.81 | I20: 0 | J20: 2604 | K20: 13020 | L20: 9376 | M20: 22272 | N20: =ROUND(H20+J20+L20,5) -> 22714.81 | O20: =ROUND(I20+K20+M20,5) -> 35292 | P20: =N20/3 -> 7571.6033 | Q20: =O20/3 -> 11764 | Y20: 4203 · 203-Alternative Dispute Resol. | Z20: 8937.28
G21: 4203C · 203C-Alternative Dispute Resol. | H21: 651 | I21: 0 | J21: 2604.05 | L21: 0 | N21: =ROUND(H21+J21+L21,5) -> 3255.05 | O21: =ROUND(I21+K21+M21,5) -> 0 | P21: =N21/3 -> 1085.0167 | Q21: =O21/3 -> 0 | Y21: 4203C · 203C-Alternative Dispute Resol. | Z21: 0
G22: 4205 · 205-Bargaining Negotiations | H22: 2979.65 | I22: 19747 | J22: 13454 | K22: 28644 | L22: 7903 | M22: 9744 | N22: =ROUND(H22+J22+L22,5) -> 24336.65 | O22: =ROUND(I22+K22+M22,5) -> 58135 | P22: =N22/3 -> 8112.2167 | Q22: =O22/3 -> 19378.333 | Y22: 4205 · 205-Bargaining Negotiations | Z22: 16858.96
G23: 4205C · 205C-Bargaining Negotiations | H23: 2387.04 | I23: 0 | J23: 0 | K23: 0 | L23: 1173.01 | M23: 0 | N23: =ROUND(H23+J23+L23,5) -> 3560.05 | O23: =ROUND(I23+K23+M23,5) -> 0 | P23: =N23/3 -> 1186.6833 | Q23: =O23/3 -> 0 | Y23: 4205C · 205C-Bargaining Negotiations | Z23: 0
G24: 4207 · 207-Practical Negotiations | H24: 8821.1 | I24: 8463 | J24: 3689 | K24: 20832 | L24: 7944 | M24: 12992 | N24: =ROUND(H24+J24+L24,5) -> 20454.1 | O24: =ROUND(I24+K24+M24,5) -> 42287 | P24: =N24/3 -> 6818.0333 | Q24: =O24/3 -> 14095.667 | Y24: 4207 · 207-Practical Negotiations | Z24: 8327.92
G25: 4209 · 209-Negotiating with Diverse Cl | H25: 2232.41 | I25: 5642 | J25: 0 | K25: 2604 | L25: 11126 | M25: 9512 | N25: =ROUND(H25+J25+L25,5) -> 13358.41 | O25: =ROUND(I25+K25+M25,5) -> 17758 | P25: =N25/3 -> 4452.8033 | Q25: =O25/3 -> 5919.3333 | Y25: 4209 · 209-Negotiating with Diverse Cl | Z25: 3249.92
G26: 4209C · 209C-Negotiating with Diverse | H26: 1085.02 | I26: 0 | J26: 3255.06 | K26: 0 | L26: 1302 | M26: 0 | N26: =ROUND(H26+J26+L26,5) -> 5642.08 | O26: =ROUND(I26+K26+M26,5) -> 0 | P26: =N26/3 -> 1880.6933 | Q26: =O26/3 -> 0 | Y26: 4209C · 209C-Negotiating with Diverse | Z26: 0
G27: 4213 · 213-Conflict Management | H27: 8761.17 | I27: 8970 | J27: 11868 | K27: 0 | L27: 8318 | M27: 14599 | N27: =ROUND(H27+J27+L27,5) -> 28947.17 | O27: =ROUND(I27+K27+M27,5) -> 23569 | P27: =N27/3 -> 9649.0567 | Q27: =O27/3 -> 7856.3333 | Y27: 4213 · 213-Conflict Management | Z27: 15886.42
G28: 4213C · 213C-Conflict Management | H28: 4830 | I28: 1794 | J28: 827.99 | K28: 0 | L28: 734 | M28: 4064 | N28: =ROUND(H28+J28+L28,5) -> 6391.99 | O28: =ROUND(I28+K28+M28,5) -> 5858 | P28: =N28/3 -> 2130.6633 | Q28: =O28/3 -> 1952.6667 | Y28: 4213C · 213C-Conflict Management | Z28: 645.87
G29: 4215 · 215-R/W Acquisit. Pipeline Proj | H29: 8392.76 | I29: 22568 | J29: 8680.03 | K29: 31248 | L29: 16885.09 | M29: 12992 | N29: =ROUND(H29+J29+L29,5) -> 33957.88 | O29: =ROUND(I29+K29+M29,5) -> 66808 | P29: =N29/3 -> 11319.293 | Q29: =O29/3 -> 22269.333 | Y29: 4215 · 215-R/W Acquisit. Pipeline Proj | Z29: 11171.61
G30: 4218 · 218-R/W Acq. for Elec.Util.Proj | H30: 21528.44 | I30: 5642 | J30: 6510 | K30: 18228 | L30: 15979.04 | M30: 25984 | N30: =ROUND(H30+J30+L30,5) -> 44017.48 | O30: =ROUND(I30+K30+M30,5) -> 49854 | P30: =N30/3 -> 14672.493 | Q30: =O30/3 -> 16618 | Y30: 4218 · 218-R/W Acq. for Elec.Util.Proj | Z30: 10562.25
G31: 4219 · 219-Introductory Instructor | H31: 4941.81 | I31: 5642 | J31: 24087 | K31: 5208 | L31: 35550 | M31: 16240 | N31: =ROUND(H31+J31+L31,5) -> 64578.81 | O31: =ROUND(I31+K31+M31,5) -> 27090 | P31: =N31/3 -> 21526.27 | Q31: =O31/3 -> 9030 | Y31: 4219 · 219-Introductory Instructor | Z31: 42248.99
G32: 4219C · 219C-Introductory Instructor | H32: 0 | I32: 0 | J32: 7378.07 | K32: 0 | L32: 7422.09 | M32: 0 | N32: =ROUND(H32+J32+L32,5) -> 14800.16 | O32: =ROUND(I32+K32+M32,5) -> 0 | P32: =N32/3 -> 4933.3867 | Q32: =O32/3 -> 0 | Y32: 4219C · 219C-Introductory Instructor | Z32: 0
G33: 4225 · 225-Social Ecology | H33: 638.11 | I33: 14105 | J33: 966 | K33: 5208 | L33: 0 | M33: 3248 | N33: =ROUND(H33+J33+L33,5) -> 1604.11 | O33: =ROUND(I33+K33+M33,5) -> 22561 | P33: =N33/3 -> 534.70333 | Q33: =O33/3 -> 7520.3333 | Y33: 4225 · 225-Social Ecology | Z33: 1033.39
... G35: 4235C · C235C - Cdn Oil & Gas Industry | H35: 0 | I35: 5382 | J35: 0 | K35: 6624 | L35: 0 | M35: 3248 | N35: =ROUND(H35+J35+L35,5) -> 0 | O35: =ROUND(I35+K35+M35,5) -> 15254 | P35: =N35/3 -> 0 | Q35: =O35/3 -> 5084.6667 | Y35: 4235C · C235C - Cdn Oil & Gas Industry | Z35: 1015.6
G36: 4239 · 239 Prin. of Wind Eng. Ld Aq | H36: 0 | I36: 0 | J36: 3449.96 | K36: 0 | L36: 2113.96 | M36: 0 | N36: =ROUND(H36+J36+L36,5) -> 5563.92 | O36: 0 | P36: =N36/3 -> 1854.64 | Q36: =O36/3 -> 0 | Y36: 4239 · 239 Prin. of Wind Eng. Ld Aq | Z36: 3858.35
G37: 4240i · 240i Geothermal Energy Basics | H37: 0 | I37: 0 | J37: 0 | K37: 0 | L37: 0 | M37: 0 | N37: =ROUND(H37+J37+L37,5) -> 0 | O37: =ROUND(I37+K37+M37,5) -> 0 | P37: =N37/3 -> 0 | Q37: =O37/3 -> 0 | Y37: 4240i · 240i Geothermal Energy Basics | Z37: 262.09
G38: 4241i · 240i - Solar Energy Basics | H38: 0 | I38: 0 | J38: 0 | K38: 0 | L38: 0 | M38: 0 | N38: =ROUND(H38+J38+L38,5) -> 0 | O38: =ROUND(I38+K38+M38,5) -> 0 | P38: =N38/3 -> 0 | Q38: =O38/3 -> 0 | Y38: 4241i · 240i - Solar Energy Basics | Z38: 262.09
F39: Total 200 · COURSE 200'S | H39: =ROUND(SUM(H16:H38),5) -> 125929.22 | I39: =ROUND(SUM(I16:I38),5) -> 120263 | J39: =ROUND(SUM(J16:J38),5) -> 136830.26 | K39: =ROUND(SUM(K16:K38),5) -> 203448 | L39: =ROUND(SUM(L16:L38),5) -> 177591.3 | M39: =ROUND(SUM(M16:M38),5) -> 186903 | N39: =ROUND(H39+J39+L39,5) -> 440350.78 | O39: =ROUND(I39+K39+M39,5) -> 510614 | P39: =N39/3 -> 146783.59 | Q39: =O39/3 -> 170204.67 | X39: Total 200 · COURSE 200'S | Z39: =ROUND(SUM(Z16:Z38),5) -> 190801.85 | AB39: =ROUND(SUM(AB16:AB38),5) -> 0 | AC39: =ROUND(SUM(AC16:AC38),5) -> 0
F40: 300 · COURSE 300'S | X40: 300 · COURSE 300'S
G41: 4303 · 303-Management Consulting | H41: 2498.6 | I41: 22568 | J41: 9765 | K41: 15624 | L41: 4818 | M41: 6496 | N41: =ROUND(H41+J41+L41,5) -> 17081.6 | O41: =ROUND(I41+K41+M41,5) -> 44688 | P41: =N41/3 -> 5693.8667 | Q41: =O41/3 -> 14896 | Y41: 4303 · 303-Management Consulting | Z41: 11780.97
...

Sheet 3rd Draft
H1: =H580 -> 44542.64 | I1: =I580 -> 8714.58 | J1: =J580 -> 51342.9 | K1: =K580 -> 826.41 | L1: =L580 -> 184453.41 | M1: =M580 -> 354.02 | N1: =N580 -> 280338.95 | O1: =O580 -> 9895.01 | ... Q1: =Q580 -> 3298.3367 | Z1: =Z580 -> 811.37 | AB1: =AB580 -> -193160.47 | AC1: =AC580 -> -8678.4714 | AD1: =AD580 -> 15325.988 | AF1: =AB1-AC1 -> -184482
AB2: 1st Draft | AC2: 2nd Draft | AD2: 3rd Draft
N3: TOTAL | P3: 3 Year Average | Z3: 2025 - 26 | AB3: 2026 - 27 | AC3: 2026 - 27 | AD3: 2026 - 27
H4: Jul '22 - Jun 23 | I4: Budget | J4: Jul '23 - Jun 24 | K4: Budget | L4: Jul '24 - Jun 25 | M4: Budget | N4: Jul '22 - Jun 25 | O4: Budget | P4: Jul '22 - Jun 25 | Q4: Budget | Z4: Budget | AB4: Budget | AC4: Budget | AD4: Budget
B5: Ordinary Income/Expense | T5: Ordinary Income/Expense
C6: Income | U6: Income
D7: 40 · EDUCATION INCOME | V7: 40 · EDUCATION INCOME
E8: 410 · COURSE INCOME - CLASSROOM | W8: 410 · COURSE INCOME - CLASSROOM
F9: 100 · COURSE 100'S | X9: 100 · COURSE 100'S | AB9: 960784.8 | AC9: 960784.8 | AD9: 1026054.2
G10: 4100i · 100i-Principles of Land Acq | H10: 122124.97 | I10: 16926 | J10: 75082.22 | K10: 46872 | L10: 73581.05 | M10: 110683 | N10: =ROUND(H10+J10+L10,5) -> 270788.24 | O10: =ROUND(I10+K10+M10,5) -> 174481 | P10: =N10/3 -> 90262.747 | Q10: =O10/3 -> 58160.333 | Y10: 4100i · 100i-Principles of Land Acq | Z10: 119709.85
G11: 4102 · 102-Elevating Your Ethical Awar | H11: 27462.54 | I11: 7176 | J11: 38915.93 | K11: 13248 | L11: 37783.37 | M11: 26791 | N11: =ROUND(H11+J11+L11,5) -> 104161.84 | O11: =ROUND(I11+K11+M11,5) -> 47215 | P11: =N11/3 -> 34720.613 | Q11: =O11/3 -> 15738.333 | Y11: 4102 · 102-Elevating Your Ethical Awar | Z11: 47017.15
G12: 4103 · 103-Ethics & ROW Profession | H12: 0 | I12: 8970 | J12: 0 | K12: 0 | L12: 0 | N12: =ROUND(H12+J12+L12,5) -> 0 | O12: =ROUND(I12+K12+M12,5) -> 8970 | P12: =N12/3 -> 0 | Q12: =O12/3 -> 2990 | Y12: 4103 · 103-Ethics & ROW Profession | Z12: 0
G13: 4105 · 105-URA Executive Summary | H13: 21585.85 | I13: 0 | J13: 9798 | K13: 1656 | L13: 17730 | M13: 20620 | N13: =ROUND(H13+J13+L13,5) -> 49113.85 | O13: =ROUND(I13+K13+M13,5) -> 22276 | P13: =N13/3 -> 16371.283 | Q13: =O13/3 -> 7425.3333 | Y13: 4105 · 105-URA Executive Summary | Z13: 17741.66
G14: 4145 · 145-Overview of URA 4 Hrs | H14: 0 | J14: 5600 | L14: 2190 | M14: 1400 | N14: =ROUND(H14+J14+L14,5) -> 7790 | O14: =ROUND(I14+K14+M14,5) -> 1400 | P14: =N14/3 -> 2596.6667 | Q14: =O14/3 -> 466.66667 | Y14: 4145 · 145-Overview of URA 4 Hrs | Z14: 5634.94
F15: Total 100 · COURSE 100'S | H15: =ROUND(SUM(H9:H14),5) -> 171173.36 | I15: =ROUND(SUM(I9:I14),5) -> 33072 | J15: =ROUND(SUM(J9:J14),5) -> 129396.15 | K15: =ROUND(SUM(K9:K14),5) -> 61776 | L15: =ROUND(SUM(L9:L14),5) -> 131284.42 | M15: =ROUND(SUM(M9:M14),5) -> 159494 | N15: =ROUND(H15+J15+L15,5) -> 431853.93 | O15: =ROUND(I15+K15+M15,5) -> 254342 | P15: =N15/3 -> 143951.31 | Q15: =O15/3 -> 84780.667 | X15: Total 100 · COURSE 100'S | Z15: =ROUND(SUM(Z9:Z14),5) -> 190103.6 | AB15: =ROUND(SUM(AB9:AB14),5) -> 960784.8 | AC15: =ROUND(SUM(AC9:AC14),5) -> 960784.8 | AD15: =ROUND(SUM(AD9:AD14),5) -> 1026054.2
F16: 200 · COURSE 200'S | X16: 200 · COURSE 200'S
G17: 4200 · 200-Princip. of R/E Negotiation | H17: 34864.82 | I17: 14105 | J17: 38975 | K17: 33852 | L17: 27970 | M17: 32016 | N17: =ROUND(H17+J17+L17,5) -> 101809.82 | O17: =ROUND(I17+K17+M17,5) -> 79973 | P17: =N17/3 -> 33936.607 | Q17: =O17/3 -> 26657.667 | Y17: 4200 · 200-Princip. of R/E Negotiation | Z17: 60529.78
G18: 4200C · 200C-Princip. of R/E Negotiat'n | H18: 8923.08 | I18: 2821 | J18: 7378.1 | K18: 7812 | L18: 10683.11 | M18: 12992 | N18: =ROUND(H18+J18+L18,5) -> 26984.29 | O18: =ROUND(I18+K18+M18,5) -> 23625 | P18: =N18/3 -> 8994.7633 | Q18: =O18/3 -> 7875 | Y18: 4200C · 200C-Princip. of R/E Negotiat'n | Z18: 0
G19: 4201 · 201-Comm. in R/E Acquisition | H19: 4158 | I19: 0 | J19: 0 | K19: 28512 | L19: 13112 | M19: 7000 | N19: =ROUND(H19+J19+L19,5) -> 17270 | O19: =ROUND(I19+K19+M19,5) -> 35512 | P19: =N19/3 -> 5756.6667 | Q19: =O19/3 -> 11837.333 | Y19: 4201 · 201-Comm. in R/E Acquisition | Z19: 4448.05
G20: 4203 · 203-Alternative Dispute Resol. | H20: 10734.81 | I20: 0 | J20: 2604 | K20: 13020 | L20: 9376 | M20: 22272 | N20: =ROUND(H20+J20+L20,5) -> 22714.81 | O20: =ROUND(I20+K20+M20,5) -> 35292 | P20: =N20/3 -> 7571.6033 | Q20: =O20/3 -> 11764 | Y20: 4203 · 203-Alternative Dispute Resol. | Z20: 8937.28
G21: 4203C · 203C-Alternative Dispute Resol. | H21: 651 | I21: 0 | J21: 2604.05 | L21: 0 | N21: =ROUND(H21+J21+L21,5) -> 3255.05 | O21: =ROUND(I21+K21+M21,5) -> 0 | P21: =N21/3 -> 1085.0167 | Q21: =O21/3 -> 0 | Y21: 4203C · 203C-Alternative Dispute Resol. | Z21: 0
G22: 4205 · 205-Bargaining Negotiations | H22: 2979.65 | I22: 19747 | J22: 13454 | K22: 28644 | L22: 7903 | M22: 9744 | N22: =ROUND(H22+J22+L22,5) -> 24336.65 | O22: =ROUND(I22+K22+M22,5) -> 58135 | P22: =N22/3 -> 8112.2167 | Q22: =O22/3 -> 19378.333 | Y22: 4205 · 205-Bargaining Negotiations | Z22: 16858.96
G23: 4205C · 205C-Bargaining Negotiations | H23: 2387.04 | I23: 0 | J23: 0 | K23: 0 | L23: 1173.01 | M23: 0 | N23: =ROUND(H23+J23+L23,5) -> 3560.05 | O23: =ROUND(I23+K23+M23,5) -> 0 | P23: =N23/3 -> 1186.6833 | Q23: =O23/3 -> 0 | Y23: 4205C · 205C-Bargaining Negotiations | Z23: 0
G24: 4207 · 207-Practical Negotiations | H24: 8821.1 | I24: 8463 | J24: 3689 | K24: 20832 | L24: 7944 | M24: 12992 | N24: =ROUND(H24+J24+L24,5) -> 20454.1 | O24: =ROUND(I24+K24+M24,5) -> 42287 | P24: =N24/3 -> 6818.0333 | Q24: =O24/3 -> 14095.667 | Y24: 4207 · 207-Practical Negotiations | Z24: 8327.92
G25: 4209 · 209-Negotiating with Diverse Cl | H25: 2232.41 | I25: 5642 | J25: 0 | K25: 2604 | L25: 11126 | M25: 9512 | N25: =ROUND(H25+J25+L25,5) -> 13358.41 | O25: =ROUND(I25+K25+M25,5) -> 17758 | P25: =N25/3 -> 4452.8033 | Q25: =O25/3 -> 5919.3333 | Y25: 4209 · 209-Negotiating with Diverse Cl | Z25: 3249.92
G26: 4209C · 209C-Negotiating with Diverse | H26: 1085.02 | I26: 0 | J26: 3255.06 | K26: 0 | L26: 1302 | M26: 0 | N26: =ROUND(H26+J26+L26,5) -> 5642.08 | O26: =ROUND(I26+K26+M26,5) -> 0 | P26: =N26/3 -> 1880.6933 | Q26: =O26/3 -> 0 | Y26: 4209C · 209C-Negotiating with Diverse | Z26: 0
G27: 4213 · 213-Conflict Management | H27: 8761.17 | I27: 8970 | J27: 11868 | K27: 0 | L27: 8318 | M27: 14599 | N27: =ROUND(H27+J27+L27,5) -> 28947.17 | O27: =ROUND(I27+K27+M27,5) -> 23569 | P27: =N27/3 -> 9649.0567 | Q27: =O27/3 -> 7856.3333 | Y27: 4213 · 213-Conflict Management | Z27: 15886.42
G28: 4213C · 213C-Conflict Management | H28: 4830 | I28: 1794 | J28: 827.99 | K28: 0 | L28: 734 | M28: 4064 | N28: =ROUND(H28+J28+L28,5) -> 6391.99 | O28: =ROUND(I28+K28+M28,5) -> 5858 | P28: =N28/3 -> 2130.6633 | Q28: =O28/3 -> 1952.6667 | Y28: 4213C · 213C-Conflict Management | Z28: 645.87
G29: 4215 · 215-R/W Acquisit. Pipeline Proj | H29: 8392.76 | I29: 22568 | J29: 8680.03 | K29: 31248 | L29: 16885.09 | M29: 12992 | N29: =ROUND(H29+J29+L29,5) -> 33957.88 | O29: =ROUND(I29+K29+M29,5) -> 66808 | P29: =N29/3 -> 11319.293 | Q29: =O29/3 -> 22269.333 | Y29: 4215 · 215-R/W Acquisit. Pipeline Proj | Z29: 11171.61
G30: 4218 · 218-R/W Acq. for Elec.Util.Proj | H30: 21528.44 | I30: 5642 | J30: 6510 | K30: 18228 | L30: 15979.04 | M30: 25984 | N30: =ROUND(H30+J30+L30,5) -> 44017.48 | O30: =ROUND(I30+K30+M30,5) -> 49854 | P30: =N30/3 -> 14672.493 | Q30: =O30/3 -> 16618 | Y30: 4218 · 218-R/W Acq. for Elec.Util.Proj | Z30: 10562.25
G31: 4219 · 219-Introductory Instructor | H31: 4941.81 | I31: 5642 | J31: 24087 | K31: 5208 | L31: 35550 | M31: 16240 | N31: =ROUND(H31+J31+L31,5) -> 64578.81 | O31: =ROUND(I31+K31+M31,5) -> 27090 | P31: =N31/3 -> 21526.27 | Q31: =O31/3 -> 9030 | Y31: 4219 · 219-Introductory Instructor | Z31: 42248.99
G32: 4219C · 219C-Introductory Instructor | H32: 0 | I32: 0 | J32: 7378.07 | K32: 0 | L32: 7422.09 | M32: 0 | N32: =ROUND(H32+J32+L32,5) -> 14800.16 | O32: =ROUND(I32+K32+M32,5) -> 0 | P32: =N32/3 -> 4933.3867 | Q32: =O32/3 -> 0 | Y32: 4219C · 219C-Introductory Instructor | Z32: 0
G33: 4225 · 225-Social Ecology | H33: 638.11 | I33: 14105 | J33: 966 | K33: 5208 | L33: 0 | M33: 3248 | N33: =ROUND(H33+J33+L33,5) -> 1604.11 | O33: =ROUND(I33+K33+M33,5) -> 22561 | P33: =N33/3 -> 534.70333 | Q33: =O33/3 -> 7520.3333 | Y33: 4225 · 225-Social Ecology | Z33: 1033.39
... G35: 4235C · C235C - Cdn Oil & Gas Industry | H35: 0 | I35: 5382 | J35: 0 | K35: 6624 | L35: 0 | M35: 3248 | N35: =ROUND(H35+J35+L35,5) -> 0 | O35: =ROUND(I35+K35+M35,5) -> 15254 | P35: =N35/3 -> 0 | Q35: =O35/3 -> 5084.6667 | Y35: 4235C · C235C - Cdn Oil & Gas Industry | Z35: 1015.6
G36: 4239 · 239 Prin. of Wind Eng. Ld Aq | H36: 0 | I36: 0 | J36: 3449.96 | K36: 0 | L36: 2113.96 | M36: 0 | N36: =ROUND(H36+J36+L36,5) -> 5563.92 | O36: 0 | P36: =N36/3 -> 1854.64 | Q36: =O36/3 -> 0 | Y36: 4239 · 239 Prin. of Wind Eng. Ld Aq | Z36: 3858.35
G37: 4240i · 240i Geothermal Energy Basics | H37: 0 | I37: 0 | J37: 0 | K37: 0 | L37: 0 | M37: 0 | N37: =ROUND(H37+J37+L37,5) -> 0 | O37: =ROUND(I37+K37+M37,5) -> 0 | P37: =N37/3 -> 0 | Q37: =O37/3 -> 0 | Y37: 4240i · 240i Geothermal Energy Basics | Z37: 262.09
G38: 4241i · 240i - Solar Energy Basics | H38: 0 | I38: 0 | J38: 0 | K38: 0 | L38: 0 | M38: 0 | N38: =ROUND(H38+J38+L38,5) -> 0 | O38: =ROUND(I38+K38+M38,5) -> 0 | P38: =N38/3 -> 0 | Q38: =O38/3 -> 0 | Y38: 4241i · 240i - Solar Energy Basics | Z38: 262.09
F39: Total 200 · COURSE 200'S | H39: =ROUND(SUM(H16:H38),5) -> 125929.22 | I39: =ROUND(SUM(I16:I38),5) -> 120263 | J39: =ROUND(SUM(J16:J38),5) -> 136830.26 | K39: =ROUND(SUM(K16:K38),5) -> 203448 | L39: =ROUND(SUM(L16:L38),5) -> 177591.3 | M39: =ROUND(SUM(M16:M38),5) -> 186903 | N39: =ROUND(H39+J39+L39,5) -> 440350.78 | O39: =ROUND(I39+K39+M39,5) -> 510614 | P39: =N39/3 -> 146783.59 | Q39: =O39/3 -> 170204.67 | X39: Total 200 · COURSE 200'S | Z39: =ROUND(SUM(Z16:Z38),5) -> 190801.85 | AB39: =ROUND(SUM(AB16:AB38),5) -> 0 | AC39: =ROUND(SUM(AC16:AC38),5) -> 0 | AD39: =ROUND(SUM(AD16:AD38),5) -> 0
F40: 300 · COURSE 300'S | X40: 300 · COURSE 300'S
G41: 4303 · 303-Management Consulting | H41: 2498.6 | I41: 22568 | J41: 9765 | K41: 15624 | L41: 4818 | M41: 6496 | N41: =ROUND(H41+J41+L41,5) -> 17081.6 | O41: =ROUND(I41+K41+M41,5) -> 44688 | P41: =N41/3 -> 5693.8667 | Q41: =O41/3 -> 14896 | Y41: 4303 · 303-Management Consulting | Z41: 11780.97
...

Sheet 4th Draft
H1: =H580 -> 44542.64 | I1: =I580 -> 8714.58 | J1: =J580 -> 51342.9 | K1: =K580 -> 826.41 | L1: =L580 -> 184453.41 | M1: =M580 -> 354.02 | N1: =N580 -> 280338.95 | O1: =O580 -> 9895.01 | ... Q1: =Q580 -> 3298.3367 | Z1: =Z580 -> 811.37 | AB1: =AB580 -> -193160.47 | AC1: =AC580 -> -8678.4714 | AD1: =AD580 -> 15325.988 | AE1: =AE580 -> 6387.1
AB2: 1st Draft | AC2: 2nd Draft | AD2: 3rd Draft | AE2: 4th Draft
N3: TOTAL | P3: 3 Year Average | Z3: 2025 - 26 | AB3: 2026 - 27 | AC3: 2026 - 27 | AD3: 2026 - 27 | AE3: 2026 - 27
H4: Jul '22 - Jun 23 | I4: Budget | J4: Jul '23 - Jun 24 | K4: Budget | L4: Jul '24 - Jun 25 | M4: Budget | N4: Jul '22 - Jun 25 | O4: Budget | P4: Jul '22 - Jun 25 | Q4: Budget | Z4: Budget | AB4: Budget | AC4: Budget | AD4: Budget | AE4: Budget
B5: Ordinary Income/Expense | T5: Ordinary Income/Expense
C6: Income | U6: Income
D7: 40 · EDUCATION INCOME | V7: 40 · EDUCATION INCOME
E8: 410 · COURSE INCOME - CLASSROOM | W8: 410 · COURSE INCOME - CLASSROOM
F9: 100 · COURSE 100'S | X9: 100 · COURSE 100'S | AB9: 960784.8 | AC9: 960784.8 | AD9: 1026054.2 | AE9: 1026054.2
G10: 4100i · 100i-Principles of Land Acq | H10: 122124.97 | I10: 16926 | J10: 75082.22 | K10: 46872 | L10: 73581.05 | M10: 110683 | N10: =ROUND(H10+J10+L10,5) -> 270788.24 | O10: =ROUND(I10+K10+M10,5) -> 174481 | P10: =N10/3 -> 90262.747 | Q10: =O10/3 -> 58160.333 | Y10: 4100i · 100i-Principles of Land Acq | Z10: 119709.85
G11: 4102 · 102-Elevating Your Ethical Awar | H11: 27462.54 | I11: 7176 | J11: 38915.93 | K11: 13248 | L11: 37783.37 | M11: 26791 | N11: =ROUND(H11+J11+L11,5) -> 104161.84 | O11: =ROUND(I11+K11+M11,5) -> 47215 | P11: =N11/3 -> 34720.613 | Q11: =O11/3 -> 15738.333 | Y11: 4102 · 102-Elevating Your Ethical Awar | Z11: 47017.15
G12: 4103 · 103-Ethics & ROW Profession | H12: 0 | I12: 8970 | J12: 0 | K12: 0 | L12: 0 | N12: =ROUND(H12+J12+L12,5) -> 0 | O12: =ROUND(I12+K12+M12,5) -> 8970 | P12: =N12/3 -> 0 | Q12: =O12/3 -> 2990 | Y12: 4103 · 103-Ethics & ROW Profession | Z12: 0
G13: 4105 · 105-URA Executive Summary | H13: 21585.85 | I13: 0 | J13: 9798 | K13: 1656 | L13: 17730 | M13: 20620 | N13: =ROUND(H13+J13+L13,5) -> 49113.85 | O13: =ROUND(I13+K13+M13,5) -> 22276 | P13: =N13/3 -> 16371.283 | Q13: =O13/3 -> 7425.3333 | Y13: 4105 · 105-URA Executive Summary | Z13: 17741.66
G14: 4145 · 145-Overview of URA 4 Hrs | H14: 0 | J14: 5600 | L14: 2190 | M14: 1400 | N14: =ROUND(H14+J14+L14,5) -> 7790 | O14: =ROUND(I14+K14+M14,5) -> 1400 | P14: =N14/3 -> 2596.6667 | Q14: =O14/3 -> 466.66667 | Y14: 4145 · 145-Overview of URA 4 Hrs | Z14: 5634.94
F15: Total 100 · COURSE 100'S | H15: =ROUND(SUM(H9:H14),5) -> 171173.36 | I15: =ROUND(SUM(I9:I14),5) -> 33072 | J15: =ROUND(SUM(J9:J14),5) -> 129396.15 | K15: =ROUND(SUM(K9:K14),5) -> 61776 | L15: =ROUND(SUM(L9:L14),5) -> 131284.42 | M15: =ROUND(SUM(M9:M14),5) -> 159494 | N15: =ROUND(H15+J15+L15,5) -> 431853.93 | O15: =ROUND(I15+K15+M15,5) -> 254342 | P15: =N15/3 -> 143951.31 | Q15: =O15/3 -> 84780.667 | X15: Total 100 · COURSE 100'S | Z15: =ROUND(SUM(Z9:Z14),5) -> 190103.6 | AB15: =ROUND(SUM(AB9:AB14),5) -> 960784.8 | AC15: =ROUND(SUM(AC9:AC14),5) -> 960784.8 | AD15: =ROUND(SUM(AD9:AD14),5) -> 1026054.2 | AE15: =ROUND(SUM(AE9:AE14),5) -> 1026054.2
F16: 200 · COURSE 200'S | X16: 200 · COURSE 200'S
G17: 4200 · 200-Princip. of R/E Negotiation | H17: 34864.82 | I17: 14105 | J17: 38975 | K17: 33852 | L17: 27970 | M17: 32016 | N17: =ROUND(H17+J17+L17,5) -> 101809.82 | O17: =ROUND(I17+K17+M17,5) -> 79973 | P17: =N17/3 -> 33936.607 | Q17: =O17/3 -> 26657.667 | Y17: 4200 · 200-Princip. of R/E Negotiation | Z17: 60529.78
G18: 4200C · 200C-Princip. of R/E Negotiat'n | H18: 8923.08 | I18: 2821 | J18: 7378.1 | K18: 7812 | L18: 10683.11 | M18: 12992 | N18: =ROUND(H18+J18+L18,5) -> 26984.29 | O18: =ROUND(I18+K18+M18,5) -> 23625 | P18: =N18/3 -> 8994.7633 | Q18: =O18/3 -> 7875 | Y18: 4200C · 200C-Princip. of R/E Negotiat'n | Z18: 0
G19: 4201 · 201-Comm. in R/E Acquisition | H19: 4158 | I19: 0 | J19: 0 | K19: 28512 | L19: 13112 | M19: 7000 | N19: =ROUND(H19+J19+L19,5) -> 17270 | O19: =ROUND(I19+K19+M19,5) -> 35512 | P19: =N19/3 -> 5756.6667 | Q19: =O19/3 -> 11837.333 | Y19: 4201 · 201-Comm. in R/E Acquisition | Z19: 4448.05
G20: 4203 · 203-Alternative Dispute Resol. | H20: 10734.81 | I20: 0 | J20: 2604 | K20: 13020 | L20: 9376 | M20: 22272 | N20: =ROUND(H20+J20+L20,5) -> 22714.81 | O20: =ROUND(I20+K20+M20,5) -> 35292 | P20: =N20/3 -> 7571.6033 | Q20: =O20/3 -> 11764 | Y20: 4203 · 203-Alternative Dispute Resol. | Z20: 8937.28
G21: 4203C · 203C-Alternative Dispute Resol. | H21: 651 | I21: 0 | J21: 2604.05 | L21: 0 | N21: =ROUND(H21+J21+L21,5) -> 3255.05 | O21: =ROUND(I21+K21+M21,5) -> 0 | P21: =N21/3 -> 1085.0167 | Q21: =O21/3 -> 0 | Y21: 4203C · 203C-Alternative Dispute Resol. | Z21: 0
G22: 4205 · 205-Bargaining Negotiations | H22: 2979.65 | I22: 19747 | J22: 13454 | K22: 28644 | L22: 7903 | M22: 9744 | N22: =ROUND(H22+J22+L22,5) -> 24336.65 | O22: =ROUND(I22+K22+M22,5) -> 58135 | P22: =N22/3 -> 8112.2167 | Q22: =O22/3 -> 19378.333 | Y22: 4205 · 205-Bargaining Negotiations | Z22: 16858.96
G23: 4205C · 205C-Bargaining Negotiations | H23: 2387.04 | I23: 0 | J23: 0 | K23: 0 | L23: 1173.01 | M23: 0 | N23: =ROUND(H23+J23+L23,5) -> 3560.05 | O23: =ROUND(I23+K23+M23,5) -> 0 | P23: =N23/3 -> 1186.6833 | Q23: =O23/3 -> 0 | Y23: 4205C · 205C-Bargaining Negotiations | Z23: 0
G24: 4207 · 207-Practical Negotiations | H24: 8821.1 | I24: 8463 | J24: 3689 | K24: 20832 | L24: 7944 | M24: 12992 | N24: =ROUND(H24+J24+L24,5) -> 20454.1 | O24: =ROUND(I24+K24+M24,5) -> 42287 | P24: =N24/3 -> 6818.0333 | Q24: =O24/3 -> 14095.667 | Y24: 4207 · 207-Practical Negotiations | Z24: 8327.92
G25: 4209 · 209-Negotiating with Diverse Cl | H25: 2232.41 | I25: 5642 | J25: 0 | K25: 2604 | L25: 11126 | M25: 9512 | N25: =ROUND(H25+J25+L25,5) -> 13358.41 | O25: =ROUND(I25+K25+M25,5) -> 17758 | P25: =N25/3 -> 4452.8033 | Q25: =O25/3 -> 5919.3333 | Y25: 4209 · 209-Negotiating with Diverse Cl | Z25: 3249.92
G26: 4209C · 209C-Negotiating with Diverse | H26: 1085.02 | I26: 0 | J26: 3255.06 | K26: 0 | L26: 1302 | M26: 0 | N26: =ROUND(H26+J26+L26,5) -> 5642.08 | O26: =ROUND(I26+K26+M26,5) -> 0 | P26: =N26/3 -> 1880.6933 | Q26: =O26/3 -> 0 | Y26: 4209C · 209C-Negotiating with Diverse | Z26: 0
G27: 4213 · 213-Conflict Management | H27: 8761.17 | I27: 8970 | J27: 11868 | K27: 0 | L27: 8318 | M27: 14599 | N27: =ROUND(H27+J27+L27,5) -> 28947.17 | O27: =ROUND(I27+K27+M27,5) -> 23569 | P27: =N27/3 -> 9649.0567 | Q27: =O27/3 -> 7856.3333 | Y27: 4213 · 213-Conflict Management | Z27: 15886.42
G28: 4213C · 213C-Conflict Management | H28: 4830 | I28: 1794 | J28: 827.99 | K28: 0 | L28: 734 | M28: 4064 | N28: =ROUND(H28+J28+L28,5) -> 6391.99 | O28: =ROUND(I28+K28+M28,5) -> 5858 | P28: =N28/3 -> 2130.6633 | Q28: =O28/3 -> 1952.6667 | Y28: 4213C · 213C-Conflict Management | Z28: 645.87
G29: 4215 · 215-R/W Acquisit. Pipeline Proj | H29: 8392.76 | I29: 22568 | J29: 8680.03 | K29: 31248 | L29: 16885.09 | M29: 12992 | N29: =ROUND(H29+J29+L29,5) -> 33957.88 | O29: =ROUND(I29+K29+M29,5) -> 66808 | P29: =N29/3 -> 11319.293 | Q29: =O29/3 -> 22269.333 | Y29: 4215 · 215-R/W Acquisit. Pipeline Proj | Z29: 11171.61
G30: 4218 · 218-R/W Acq. for Elec.Util.Proj | H30: 21528.44 | I30: 5642 | J30: 6510 | K30: 18228 | L30: 15979.04 | M30: 25984 | N30: =ROUND(H30+J30+L30,5) -> 44017.48 | O30: =ROUND(I30+K30+M30,5) -> 49854 | P30: =N30/3 -> 14672.493 | Q30: =O30/3 -> 16618 | Y30: 4218 · 218-R/W Acq. for Elec.Util.Proj | Z30: 10562.25
G31: 4219 · 219-Introductory Instructor | H31: 4941.81 | I31: 5642 | J31: 24087 | K31: 5208 | L31: 35550 | M31: 16240 | N31: =ROUND(H31+J31+L31,5) -> 64578.81 | O31: =ROUND(I31+K31+M31,5) -> 27090 | P31: =N31/3 -> 21526.27 | Q31: =O31/3 -> 9030 | Y31: 4219 · 219-Introductory Instructor | Z31: 42248.99
G32: 4219C · 219C-Introductory Instructor | H32: 0 | I32: 0 | J32: 7378.07 | K32: 0 | L32: 7422.09 | M32: 0 | N32: =ROUND(H32+J32+L32,5) -> 14800.16 | O32: =ROUND(I32+K32+M32,5) -> 0 | P32: =N32/3 -> 4933.3867 | Q32: =O32/3 -> 0 | Y32: 4219C · 219C-Introductory Instructor | Z32: 0
G33: 4225 · 225-Social Ecology | H33: 638.11 | I33: 14105 | J33: 966 | K33: 5208 | L33: 0 | M33: 3248 | N33: =ROUND(H33+J33+L33,5) -> 1604.11 | O33: =ROUND(I33+K33+M33,5) -> 22561 | P33: =N33/3 -> 534.70333 | Q33: =O33/3 -> 7520.3333 | Y33: 4225 · 225-Social Ecology | Z33: 1033.39
... G35: 4235C · C235C - Cdn Oil & Gas Industry | H35: 0 | I35: 5382 | J35: 0 | K35: 6624 | L35: 0 | M35: 3248 | N35: =ROUND(H35+J35+L35,5) -> 0 | O35: =ROUND(I35+K35+M35,5) -> 15254 | P35: =N35/3 -> 0 | Q35: =O35/3 -> 5084.6667 | Y35: 4235C · C235C - Cdn Oil & Gas Industry | Z35: 1015.6
G36: 4239 · 239 Prin. of Wind Eng. Ld Aq | H36: 0 | I36: 0 | J36: 3449.96 | K36: 0 | L36: 2113.96 | M36: 0 | N36: =ROUND(H36+J36+L36,5) -> 5563.92 | O36: 0 | P36: =N36/3 -> 1854.64 | Q36: =O36/3 -> 0 | Y36: 4239 · 239 Prin. of Wind Eng. Ld Aq | Z36: 3858.35
G37: 4240i · 240i Geothermal Energy Basics | H37: 0 | I37: 0 | J37: 0 | K37: 0 | L37: 0 | M37: 0 | N37: =ROUND(H37+J37+L37,5) -> 0 | O37: =ROUND(I37+K37+M37,5) -> 0 | P37: =N37/3 -> 0 | Q37: =O37/3 -> 0 | Y37: 4240i · 240i Geothermal Energy Basics | Z37: 262.09
G38: 4241i · 240i - Solar Energy Basics | H38: 0 | I38: 0 | J38: 0 | K38: 0 | L38: 0 | M38: 0 | N38: =ROUND(H38+J38+L38,5) -> 0 | O38: =ROUND(I38+K38+M38,5) -> 0 | P38: =N38/3 -> 0 | Q38: =O38/3 -> 0 | Y38: 4241i · 240i - Solar Energy Basics | Z38: 262.09
F39: Total 200 · COURSE 200'S | H39: =ROUND(SUM(H16:H38),5) -> 125929.22 | I39: =ROUND(SUM(I16:I38),5) -> 120263 | J39: =ROUND(SUM(J16:J38),5) -> 136830.26 | K39: =ROUND(SUM(K16:K38),5) -> 203448 | L39: =ROUND(SUM(L16:L38),5) -> 177591.3 | M39: =ROUND(SUM(M16:M38),5) -> 186903 | N39: =ROUND(H39+J39+L39,5) -> 440350.78 | O39: =ROUND(I39+K39+M39,5) -> 510614 | P39: =N39/3 -> 146783.59 | Q39: =O39/3 -> 170204.67 | X39: Total 200 · COURSE 200'S | Z39: =ROUND(SUM(Z16:Z38),5) -> 190801.85 | AB39: =ROUND(SUM(AB16:AB38),5) -> 0 | AC39: =ROUND(SUM(AC16:AC38),5) -> 0 | AD39: =ROUND(SUM(AD16:AD38),5) -> 0 | AE39: =ROUND(SUM(AE16:AE38),5) -> 0
F40: 300 · COURSE 300'S | X40: 300 · COURSE 300'S
G41: 4303 · 303-Management Consulting | H41: 2498.6 | I41: 22568 | J41: 9765 | K41: 15624 | L41: 4818 | M41: 6496 | N41: =ROUND(H41+J41+L41,5) -> 17081.6 | O41: =ROUND(I41+K41+M41,5) -> 44688 | P41: =N41/3 -> 5693.8667 | Q41: =O41/3 -> 14896 | Y41: 4303 · 303-Management Consulting | Z41: 11780.97
...

Sheet 5th Draft
A1: ` | H1: =H580 -> 44542.64 | I1: =I580 -> 8714.58 | J1: =J580 -> 51342.9 | K1: =K580 -> 826.41 | L1: =L580 -> 184453.41 | M1: =M580 -> 354.02 | N1: =N580 -> 280338.95 | O1: =O580 -> 9895.01 | ... Q1: =Q580 -> 3298.3367 | Z1: =Z580 -> 811.37 | AB1: =AB580 -> -193160.47 | AC1: =AC580 -> -8678.4714 | AD1: =AD580 -> 15325.988 | AE1: =AE580 -> 6387.1 | AF1: =AF580 -> 22442.035
AB2: 1st Draft | AC2: 2nd Draft | AD2: 3rd Draft | AE2: 4th Draft | AF2: 5th Draft
N3: TOTAL | P3: 3 Year Average | Z3: 2025 - 26 | AB3: 2026 - 27 | AC3: 2026 - 27 | AD3: 2026 - 27 | AE3: 2026 - 27 | AF3: 2026 - 27
H4: Jul '22 - Jun 23 | I4: Budget | J4: Jul '23 - Jun 24 | K4: Budget | L4: Jul '24 - Jun 25 | M4: Budget | N4: Jul '22 - Jun 25 | O4: Budget | P4: Jul '22 - Jun 25 | Q4: Budget | Z4: Budget | AB4: Budget | AC4: Budget | AD4: Budget | AE4: Budget | AF4: Budget
B5: Ordinary Income/Expense | T5: Ordinary Income/Expense
C6: Income | U6: Income
D7: 40 · EDUCATION INCOME | V7: 40 · EDUCATION INCOME
E8: 410 · COURSE INCOME - CLASSROOM | W8: 410 · COURSE INCOME - CLASSROOM
F9: 100 · COURSE 100'S | X9: 100 · COURSE 100'S | AB9: 960784.8 | AC9: 960784.8 | AD9: 1026054.2 | AE9: 1026054.2 | AF9: 1026054.2
G10: 4100i · 100i-Principles of Land Acq | H10: 122124.97 | I10: 16926 | J10: 75082.22 | K10: 46872 | L10: 73581.05 | M10: 110683 | N10: =ROUND(H10+J10+L10,5) -> 270788.24 | O10: =ROUND(I10+K10+M10,5) -> 174481 | P10: =N10/3 -> 90262.747 | Q10: =O10/3 -> 58160.333 | Y10: 4100i · 100i-Principles of Land Acq | Z10: 119709.85
G11: 4102 · 102-Elevating Your Ethical Awar | H11: 27462.54 | I11: 7176 | J11: 38915.93 | K11: 13248 | L11: 37783.37 | M11: 26791 | N11: =ROUND(H11+J11+L11,5) -> 104161.84 | O11: =ROUND(I11+K11+M11,5) -> 47215 | P11: =N11/3 -> 34720.613 | Q11: =O11/3 -> 15738.333 | Y11: 4102 · 102-Elevating Your Ethical Awar | Z11: 47017.15
G12: 4103 · 103-Ethics & ROW Profession | H12: 0 | I12: 8970 | J12: 0 | K12: 0 | L12: 0 | N12: =ROUND(H12+J12+L12,5) -> 0 | O12: =ROUND(I12+K12+M12,5) -> 8970 | P12: =N12/3 -> 0 | Q12: =O12/3 -> 2990 | Y12: 4103 · 103-Ethics & ROW Profession | Z12: 0
G13: 4105 · 105-URA Executive Summary | H13: 21585.85 | I13: 0 | J13: 9798 | K13: 1656 | L13: 17730 | M13: 20620 | N13: =ROUND(H13+J13+L13,5) -> 49113.85 | O13: =ROUND(I13+K13+M13,5) -> 22276 | P13: =N13/3 -> 16371.283 | Q13: =O13/3 -> 7425.3333 | Y13: 4105 · 105-URA Executive Summary | Z13: 17741.66
G14: 4145 · 145-Overview of URA 4 Hrs | H14: 0 | J14: 5600 | L14: 2190 | M14: 1400 | N14: =ROUND(H14+J14+L14,5) -> 7790 | O14: =ROUND(I14+K14+M14,5) -> 1400 | P14: =N14/3 -> 2596.6667 | Q14: =O14/3 -> 466.66667 | Y14: 4145 · 145-Overview of URA 4 Hrs | Z14: 5634.94
F15: Total 100 · COURSE 100'S | H15: =ROUND(SUM(H9:H14),5) -> 171173.36 | I15: =ROUND(SUM(I9:I14),5) -> 33072 | J15: =ROUND(SUM(J9:J14),5) -> 129396.15 | K15: =ROUND(SUM(K9:K14),5) -> 61776 | L15: =ROUND(SUM(L9:L14),5) -> 131284.42 | M15: =ROUND(SUM(M9:M14),5) -> 159494 | N15: =ROUND(H15+J15+L15,5) -> 431853.93 | O15: =ROUND(I15+K15+M15,5) -> 254342 | P15: =N15/3 -> 143951.31 | Q15: =O15/3 -> 84780.667 | X15: Total 100 · COURSE 100'S | Z15: =ROUND(SUM(Z9:Z14),5) -> 190103.6 | AB15: =ROUND(SUM(AB9:AB14),5) -> 960784.8 | AC15: =ROUND(SUM(AC9:AC14),5) -> 960784.8 | AD15: =ROUND(SUM(AD9:AD14),5) -> 1026054.2 | AE15: =ROUND(SUM(AE9:AE14),5) -> 1026054.2 | AF15: =ROUND(SUM(AF9:AF14),5) -> 1026054.2
F16: 200 · COURSE 200'S | X16: 200 · COURSE 200'S
G17: 4200 · 200-Princip. of R/E Negotiation | H17: 34864.82 | I17: 14105 | J17: 38975 | K17: 33852 | L17: 27970 | M17: 32016 | N17: =ROUND(H17+J17+L17,5) -> 101809.82 | O17: =ROUND(I17+K17+M17,5) -> 79973 | P17: =N17/3 -> 33936.607 | Q17: =O17/3 -> 26657.667 | Y17: 4200 · 200-Princip. of R/E Negotiation | Z17: 60529.78
G18: 4200C · 200C-Princip. of R/E Negotiat'n | H18: 8923.08 | I18: 2821 | J18: 7378.1 | K18: 7812 | L18: 10683.11 | M18: 12992 | N18: =ROUND(H18+J18+L18,5) -> 26984.29 | O18: =ROUND(I18+K18+M18,5) -> 23625 | P18: =N18/3 -> 8994.7633 | Q18: =O18/3 -> 7875 | Y18: 4200C · 200C-Princip. of R/E Negotiat'n | Z18: 0
G19: 4201 · 201-Comm. in R/E Acquisition | H19: 4158 | I19: 0 | J19: 0 | K19: 28512 | L19: 13112 | M19: 7000 | N19: =ROUND(H19+J19+L19,5) -> 17270 | O19: =ROUND(I19+K19+M19,5) -> 35512 | P19: =N19/3 -> 5756.6667 | Q19: =O19/3 -> 11837.333 | Y19: 4201 · 201-Comm. in R/E Acquisition | Z19: 4448.05
G20: 4203 · 203-Alternative Dispute Resol. | H20: 10734.81 | I20: 0 | J20: 2604 | K20: 13020 | L20: 9376 | M20: 22272 | N20: =ROUND(H20+J20+L20,5) -> 22714.81 | O20: =ROUND(I20+K20+M20,5) -> 35292 | P20: =N20/3 -> 7571.6033 | Q20: =O20/3 -> 11764 | Y20: 4203 · 203-Alternative Dispute Resol. | Z20: 8937.28
G21: 4203C · 203C-Alternative Dispute Resol. | H21: 651 | I21: 0 | J21: 2604.05 | L21: 0 | N21: =ROUND(H21+J21+L21,5) -> 3255.05 | O21: =ROUND(I21+K21+M21,5) -> 0 | P21: =N21/3 -> 1085.0167 | Q21: =O21/3 -> 0 | Y21: 4203C · 203C-Alternative Dispute Resol. | Z21: 0
G22: 4205 · 205-Bargaining Negotiations | H22: 2979.65 | I22: 19747 | J22: 13454 | K22: 28644 | L22: 7903 | M22: 9744 | N22: =ROUND(H22+J22+L22,5) -> 24336.65 | O22: =ROUND(I22+K22+M22,5) -> 58135 | P22: =N22/3 -> 8112.2167 | Q22: =O22/3 -> 19378.333 | Y22: 4205 · 205-Bargaining Negotiations | Z22: 16858.96
G23: 4205C · 205C-Bargaining Negotiations | H23: 2387.04 | I23: 0 | J23: 0 | K23: 0 | L23: 1173.01 | M23: 0 | N23: =ROUND(H23+J23+L23,5) -> 3560.05 | O23: =ROUND(I23+K23+M23,5) -> 0 | P23: =N23/3 -> 1186.6833 | Q23: =O23/3 -> 0 | Y23: 4205C · 205C-Bargaining Negotiations | Z23: 0
G24: 4207 · 207-Practical Negotiations | H24: 8821.1 | I24: 8463 | J24: 3689 | K24: 20832 | L24: 7944 | M24: 12992 | N24: =ROUND(H24+J24+L24,5) -> 20454.1 | O24: =ROUND(I24+K24+M24,5) -> 42287 | P24: =N24/3 -> 6818.0333 | Q24: =O24/3 -> 14095.667 | Y24: 4207 · 207-Practical Negotiations | Z24: 8327.92
G25: 4209 · 209-Negotiating with Diverse Cl | H25: 2232.41 | I25: 5642 | J25: 0 | K25: 2604 | L25: 11126 | M25: 9512 | N25: =ROUND(H25+J25+L25,5) -> 13358.41 | O25: =ROUND(I25+K25+M25,5) -> 17758 | P25: =N25/3 -> 4452.8033 | Q25: =O25/3 -> 5919.3333 | Y25: 4209 · 209-Negotiating with Diverse Cl | Z25: 3249.92
G26: 4209C · 209C-Negotiating with Diverse | H26: 1085.02 | I26: 0 | J26: 3255.06 | K26: 0 | L26: 1302 | M26: 0 | N26: =ROUND(H26+J26+L26,5) -> 5642.08 | O26: =ROUND(I26+K26+M26,5) -> 0 | P26: =N26/3 -> 1880.6933 | Q26: =O26/3 -> 0 | Y26: 4209C · 209C-Negotiating with Diverse | Z26: 0
G27: 4213 · 213-Conflict Management | H27: 8761.17 | I27: 8970 | J27: 11868 | K27: 0 | L27: 8318 | M27: 14599 | N27: =ROUND(H27+J27+L27,5) -> 28947.17 | O27: =ROUND(I27+K27+M27,5) -> 23569 | P27: =N27/3 -> 9649.0567 | Q27: =O27/3 -> 7856.3333 | Y27: 4213 · 213-Conflict Management | Z27: 15886.42
G28: 4213C · 213C-Conflict Management | H28: 4830 | I28: 1794 | J28: 827.99 | K28: 0 | L28: 734 | M28: 4064 | N28: =ROUND(H28+J28+L28,5) -> 6391.99 | O28: =ROUND(I28+K28+M28,5) -> 5858 | P28: =N28/3 -> 2130.6633 | Q28: =O28/3 -> 1952.6667 | Y28: 4213C · 213C-Conflict Management | Z28: 645.87
G29: 4215 · 215-R/W Acquisit. Pipeline Proj | H29: 8392.76 | I29: 22568 | J29: 8680.03 | K29: 31248 | L29: 16885.09 | M29: 12992 | N29: =ROUND(H29+J29+L29,5) -> 33957.88 | O29: =ROUND(I29+K29+M29,5) -> 66808 | P29: =N29/3 -> 11319.293 | Q29: =O29/3 -> 22269.333 | Y29: 4215 · 215-R/W Acquisit. Pipeline Proj | Z29: 11171.61
G30: 4218 · 218-R/W Acq. for Elec.Util.Proj | H30: 21528.44 | I30: 5642 | J30: 6510 | K30: 18228 | L30: 15979.04 | M30: 25984 | N30: =ROUND(H30+J30+L30,5) -> 44017.48 | O30: =ROUND(I30+K30+M30,5) -> 49854 | P30: =N30/3 -> 14672.493 | Q30: =O30/3 -> 16618 | Y30: 4218 · 218-R/W Acq. for Elec.Util.Proj | Z30: 10562.25
G31: 4219 · 219-Introductory Instructor | H31: 4941.81 | I31: 5642 | J31: 24087 | K31: 5208 | L31: 35550 | M31: 16240 | N31: =ROUND(H31+J31+L31,5) -> 64578.81 | O31: =ROUND(I31+K31+M31,5) -> 27090 | P31: =N31/3 -> 21526.27 | Q31: =O31/3 -> 9030 | Y31: 4219 · 219-Introductory Instructor | Z31: 42248.99
G32: 4219C · 219C-Introductory Instructor | H32: 0 | I32: 0 | J32: 7378.07 | K32: 0 | L32: 7422.09 | M32: 0 | N32: =ROUND(H32+J32+L32,5) -> 14800.16 | O32: =ROUND(I32+K32+M32,5) -> 0 | P32: =N32/3 -> 4933.3867 | Q32: =O32/3 -> 0 | Y32: 4219C · 219C-Introductory Instructor | Z32: 0
G33: 4225 · 225-Social Ecology | H33: 638.11 | I33: 14105 | J33: 966 | K33: 5208 | L33: 0 | M33: 3248 | N33: =ROUND(H33+J33+L33,5) -> 1604.11 | O33: =ROUND(I33+K33+M33,5) -> 22561 | P33: =N33/3 -> 534.70333 | Q33: =O33/3 -> 7520.3333 | Y33: 4225 · 225-Social Ecology | Z33: 1033.39
... G35: 4235C · C235C - Cdn Oil & Gas Industry | H35: 0 | I35: 5382 | J35: 0 | K35: 6624 | L35: 0 | M35: 3248 | N35: =ROUND(H35+J35+L35,5) -> 0 | O35: =ROUND(I35+K35+M35,5) -> 15254 | P35: =N35/3 -> 0 | Q35: =O35/3 -> 5084.6667 | Y35: 4235C · C235C - Cdn Oil & Gas Industry | Z35: 1015.6
G36: 4239 · 239 Prin. of Wind Eng. Ld Aq | H36: 0 | I36: 0 | J36: 3449.96 | K36: 0 | L36: 2113.96 | M36: 0 | N36: =ROUND(H36+J36+L36,5) -> 5563.92 | O36: 0 | P36: =N36/3 -> 1854.64 | Q36: =O36/3 -> 0 | Y36: 4239 · 239 Prin. of Wind Eng. Ld Aq | Z36: 3858.35
G37: 4240i · 240i Geothermal Energy Basics | H37: 0 | I37: 0 | J37: 0 | K37: 0 | L37: 0 | M37: 0 | N37: =ROUND(H37+J37+L37,5) -> 0 | O37: =ROUND(I37+K37+M37,5) -> 0 | P37: =N37/3 -> 0 | Q37: =O37/3 -> 0 | Y37: 4240i · 240i Geothermal Energy Basics | Z37: 262.09
G38: 4241i · 240i - Solar Energy Basics | H38: 0 | I38: 0 | J38: 0 | K38: 0 | L38: 0 | M38: 0 | N38: =ROUND(H38+J38+L38,5) -> 0 | O38: =ROUND(I38+K38+M38,5) -> 0 | P38: =N38/3 -> 0 | Q38: =O38/3 -> 0 | Y38: 4241i · 240i - Solar Energy Basics | Z38: 262.09
F39: Total 200 · COURSE 200'S | H39: =ROUND(SUM(H16:H38),5) -> 125929.22 | I39: =ROUND(SUM(I16:I38),5) -> 120263 | J39: =ROUND(SUM(J16:J38),5) -> 136830.26 | K39: =ROUND(SUM(K16:K38),5) -> 203448 | L39: =ROUND(SUM(L16:L38),5) -> 177591.3 | M39: =ROUND(SUM(M16:M38),5) -> 186903 | N39: =ROUND(H39+J39+L39,5) -> 440350.78 | O39: =ROUND(I39+K39+M39,5) -> 510614 | P39: =N39/3 -> 146783.59 | Q39: =O39/3 -> 170204.67 | X39: Total 200 · COURSE 200'S | Z39: =ROUND(SUM(Z16:Z38),5) -> 190801.85 | AB39: =ROUND(SUM(AB16:AB38),5) -> 0 | AC39: =ROUND(SUM(AC16:AC38),5) -> 0 | AD39: =ROUND(SUM(AD16:AD38),5) -> 0 | AE39: =ROUND(SUM(AE16:AE38),5) -> 0 | AF39: =ROUND(SUM(AF16:AF38),5) -> 0
F40: 300 · COURSE 300'S | X40: 300 · COURSE 300'S
G41: 4303 · 303-Management Consulting | H41: 2498.6 | I41: 22568 | J41: 9765 | K41: 15624 | L41: 4818 | M41: 6496 | N41: =ROUND(H41+J41+L41,5) -> 17081.6 | O41: =ROUND(I41+K41+M41,5) -> 44688 | P41: =N41/3 -> 5693.8667 | Q41: =O41/3 -> 14896 | Y41: 4303 · 303-Management Consulting | Z41: 11780.97
...

Sheet 6th Draft
H1: =H582 -> 44542.64 | I1: =I582 -> 8714.58 | J1: =J582 -> 51342.9 | K1: =K582 -> 826.41 | L1: =L582 -> 184453.41 | M1: =M582 -> 354.02 | N1: =N582 -> 280338.95 | O1: =O582 -> 9895.01 | ... Q1: =Q582 -> 3298.3367 | Z1: =Z582 -> 811.37 | AB1: =AB582 -> -193160.47 | AC1: =AC582 -> -8678.4714 | AD1: =AD582 -> 15325.988 | AE1: =AE582 -> 3787.1 | AF1: =AF582 -> 22292.035 | AG1: =AG582 -> 8513
AB2: 1st Draft | AC2: 2nd Draft | AD2: 3rd Draft | AE2: 4th Draft | AF2: 5th Draft | AG2: 6th Draft
N3: TOTAL | P3: 3 Year Average | Z3: 2025 - 26 | AB3: 2026 - 27 | AC3: 2026 - 27 | AD3: 2026 - 27 | AE3: 2026 - 27 | AF3: 2026 - 27 | AG3: 2026 - 27
H4: Jul '22 - Jun 23 | I4: Budget | J4: Jul '23 - Jun 24 | K4: Budget | L4: Jul '24 - Jun 25 | M4: Budget | N4: Jul '22 - Jun 25 | O4: Budget | P4: Jul '22 - Jun 25 | Q4: Budget | Z4: Budget | AB4: Budget | AC4: Budget | AD4: Budget | AE4: Budget | AF4: Budget | AG4: Budget
B5: Ordinary Income/Expense | T5: Ordinary Income/Expense
C6: Income | U6: Income
D7: 40 · EDUCATION INCOME | V7: 40 · EDUCATION INCOME
E8: 410 · COURSE INCOME - CLASSROOM | W8: 410 · COURSE INCOME - CLASSROOM
F9: 100 · COURSE 100'S | X9: 100 · COURSE 100'S | AB9: 960784.8 | AC9: 960784.8 | AD9: 1026054.2 | AE9: 1026054.2 | AF9: 1026054.2 | AG9: 1026054.2
G10: 4100i · 100i-Principles of Land Acq | H10: 122124.97 | I10: 16926 | J10: 75082.22 | K10: 46872 | L10: 73581.05 | M10: 110683 | N10: =ROUND(H10+J10+L10,5) -> 270788.24 | O10: =ROUND(I10+K10+M10,5) -> 174481 | P10: =N10/3 -> 90262.747 | Q10: =O10/3 -> 58160.333 | Y10: 4100i · 100i-Principles of Land Acq | Z10: 119709.85
G11: 4102 · 102-Elevating Your Ethical Awar | H11: 27462.54 | I11: 7176 | J11: 38915.93 | K11: 13248 | L11: 37783.37 | M11: 26791 | N11: =ROUND(H11+J11+L11,5) -> 104161.84 | O11: =ROUND(I11+K11+M11,5) -> 47215 | P11: =N11/3 -> 34720.613 | Q11: =O11/3 -> 15738.333 | Y11: 4102 · 102-Elevating Your Ethical Awar | Z11: 47017.15
G12: 4103 · 103-Ethics & ROW Profession | H12: 0 | I12: 8970 | J12: 0 | K12: 0 | L12: 0 | N12: =ROUND(H12+J12+L12,5) -> 0 | O12: =ROUND(I12+K12+M12,5) -> 8970 | P12: =N12/3 -> 0 | Q12: =O12/3 -> 2990 | Y12: 4103 · 103-Ethics & ROW Profession | Z12: 0
G13: 4105 · 105-URA Executive Summary | H13: 21585.85 | I13: 0 | J13: 9798 | K13: 1656 | L13: 17730 | M13: 20620 | N13: =ROUND(H13+J13+L13,5) -> 49113.85 | O13: =ROUND(I13+K13+M13,5) -> 22276 | P13: =N13/3 -> 16371.283 | Q13: =O13/3 -> 7425.3333 | Y13: 4105 · 105-URA Executive Summary | Z13: 17741.66
G14: 4145 · 145-Overview of URA 4 Hrs | H14: 0 | J14: 5600 | L14: 2190 | M14: 1400 | N14: =ROUND(H14+J14+L14,5) -> 7790 | O14: =ROUND(I14+K14+M14,5) -> 1400 | P14: =N14/3 -> 2596.6667 | Q14: =O14/3 -> 466.66667 | Y14: 4145 · 145-Overview of URA 4 Hrs | Z14: 5634.94
F15: Total 100 · COURSE 100'S | H15: =ROUND(SUM(H9:H14),5) -> 171173.36 | I15: =ROUND(SUM(I9:I14),5) -> 33072 | J15: =ROUND(SUM(J9:J14),5) -> 129396.15 | K15: =ROUND(SUM(K9:K14),5) -> 61776 | L15: =ROUND(SUM(L9:L14),5) -> 131284.42 | M15: =ROUND(SUM(M9:M14),5) -> 159494 | N15: =ROUND(H15+J15+L15,5) -> 431853.93 | O15: =ROUND(I15+K15+M15,5) -> 254342 | P15: =N15/3 -> 143951.31 | Q15: =O15/3 -> 84780.667 | X15: Total 100 · COURSE 100'S | Z15: =ROUND(SUM(Z9:Z14),5) -> 190103.6 | AB15: =ROUND(SUM(AB9:AB14),5) -> 960784.8 | AC15: =ROUND(SUM(AC9:AC14),5) -> 960784.8 | AD15: =ROUND(SUM(AD9:AD14),5) -> 1026054.2 | AE15: =ROUND(SUM(AE9:AE14),5) -> 1026054.2 | AF15: =ROUND(SUM(AF9:AF14),5) -> 1026054.2 | AG15: =ROUND(SUM(AG9:AG14),5) -> 1026054.2
F16: 200 · COURSE 200'S | X16: 200 · COURSE 200'S
G17: 4200 · 200-Princip. of R/E Negotiation | H17: 34864.82 | I17: 14105 | J17: 38975 | K17: 33852 | L17: 27970 | M17: 32016 | N17: =ROUND(H17+J17+L17,5) -> 101809.82 | O17: =ROUND(I17+K17+M17,5) -> 79973 | P17: =N17/3 -> 33936.607 | Q17: =O17/3 -> 26657.667 | Y17: 4200 · 200-Princip. of R/E Negotiation | Z17: 60529.78
G18: 4200C · 200C-Princip. of R/E Negotiat'n | H18: 8923.08 | I18: 2821 | J18: 7378.1 | K18: 7812 | L18: 10683.11 | M18: 12992 | N18: =ROUND(H18+J18+L18,5) -> 26984.29 | O18: =ROUND(I18+K18+M18,5) -> 23625 | P18: =N18/3 -> 8994.7633 | Q18: =O18/3 -> 7875 | Y18: 4200C · 200C-Princip. of R/E Negotiat'n | Z18: 0
G19: 4201 · 201-Comm. in R/E Acquisition | H19: 4158 | I19: 0 | J19: 0 | K19: 28512 | L19: 13112 | M19: 7000 | N19: =ROUND(H19+J19+L19,5) -> 17270 | O19: =ROUND(I19+K19+M19,5) -> 35512 | P19: =N19/3 -> 5756.6667 | Q19: =O19/3 -> 11837.333 | Y19: 4201 · 201-Comm. in R/E Acquisition | Z19: 4448.05
G20: 4203 · 203-Alternative Dispute Resol. | H20: 10734.81 | I20: 0 | J20: 2604 | K20: 13020 | L20: 9376 | M20: 22272 | N20: =ROUND(H20+J20+L20,5) -> 22714.81 | O20: =ROUND(I20+K20+M20,5) -> 35292 | P20: =N20/3 -> 7571.6033 | Q20: =O20/3 -> 11764 | Y20: 4203 · 203-Alternative Dispute Resol. | Z20: 8937.28
G21: 4203C · 203C-Alternative Dispute Resol. | H21: 651 | I21: 0 | J21: 2604.05 | L21: 0 | N21: =ROUND(H21+J21+L21,5) -> 3255.05 | O21: =ROUND(I21+K21+M21,5) -> 0 | P21: =N21/3 -> 1085.0167 | Q21: =O21/3 -> 0 | Y21: 4203C · 203C-Alternative Dispute Resol. | Z21: 0
G22: 4205 · 205-Bargaining Negotiations | H22: 2979.65 | I22: 19747 | J22: 13454 | K22: 28644 | L22: 7903 | M22: 9744 | N22: =ROUND(H22+J22+L22,5) -> 24336.65 | O22: =ROUND(I22+K22+M22,5) -> 58135 | P22: =N22/3 -> 8112.2167 | Q22: =O22/3 -> 19378.333 | Y22: 4205 · 205-Bargaining Negotiations | Z22: 16858.96
G23: 4205C · 205C-Bargaining Negotiations | H23: 2387.04 | I23: 0 | J23: 0 | K23: 0 | L23: 1173.01 | M23: 0 | N23: =ROUND(H23+J23+L23,5) -> 3560.05 | O23: =ROUND(I23+K23+M23,5) -> 0 | P23: =N23/3 -> 1186.6833 | Q23: =O23/3 -> 0 | Y23: 4205C · 205C-Bargaining Negotiations | Z23: 0
G24: 4207 · 207-Practical Negotiations | H24: 8821.1 | I24: 8463 | J24: 3689 | K24: 20832 | L24: 7944 | M24: 12992 | N24: =ROUND(H24+J24+L24,5) -> 20454.1 | O24: =ROUND(I24+K24+M24,5) -> 42287 | P24: =N24/3 -> 6818.0333 | Q24: =O24/3 -> 14095.667 | Y24: 4207 · 207-Practical Negotiations | Z24: 8327.92
G25: 4209 · 209-Negotiating with Diverse Cl | H25: 2232.41 | I25: 5642 | J25: 0 | K25: 2604 | L25: 11126 | M25: 9512 | N25: =ROUND(H25+J25+L25,5) -> 13358.41 | O25: =ROUND(I25+K25+M25,5) -> 17758 | P25: =N25/3 -> 4452.8033 | Q25: =O25/3 -> 5919.3333 | Y25: 4209 · 209-Negotiating with Diverse Cl | Z25: 3249.92
G26: 4209C · 209C-Negotiating with Diverse | H26: 1085.02 | I26: 0 | J26: 3255.06 | K26: 0 | L26: 1302 | M26: 0 | N26: =ROUND(H26+J26+L26,5) -> 5642.08 | O26: =ROUND(I26+K26+M26,5) -> 0 | P26: =N26/3 -> 1880.6933 | Q26: =O26/3 -> 0 | Y26: 4209C · 209C-Negotiating with Diverse | Z26: 0
